BEGIN:VCALENDAR
VERSION:2.0
PRODID:-//Mid North Coast Legal Centre - ECPv6.8.3//NONSGML v1.0//EN
CALSCALE:GREGORIAN
METHOD:PUBLISH
X-ORIGINAL-URL:https://mnclegal.org.au
X-WR-CALDESC:Events for Mid North Coast Legal Centre
REFRESH-INTERVAL;VALUE=DURATION:PT1H
X-Robots-Tag:noindex
X-PUBLISHED-TTL:PT1H
BEGIN:VTIMEZONE
TZID:Australia/Sydney
BEGIN:STANDARD
TZOFFSETFROM:+1100
TZOFFSETTO:+1000
TZNAME:AEST
DTSTART:20230401T160000
END:STANDARD
BEGIN:DAYLIGHT
TZOFFSETFROM:+1000
TZOFFSETTO:+1100
TZNAME:AEDT
DTSTART:20230930T160000
END:DAYLIGHT
END:VTIMEZONE
BEGIN:VEVENT
DTSTART;TZID=Australia/Sydney:20231113T100000
DTEND;TZID=Australia/Sydney:20231113T110000
DTSTAMP:20260425T084856
CREATED:20231010T220121Z
LAST-MODIFIED:20231010T220121Z
UID:1881-1699869600-1699873200@mnclegal.org.au
SUMMARY:Planning Ahead: Powers of Attorney & Enduring Guardianship
DESCRIPTION:A free information session for the Taree and surrounding areas community on Planning Ahead: Powers of Attorney and Enduring Guardianship. This talk will cover: \n\nCapacity\n\n\nEnduring Powers of Attorney\n\n\nEnduring Guardianship\n\n\nAdvance Care Planning Directive\n\n\nFinancial Management Orders\n\n\nGuardianship\n\n\nWills\n\nThe session will be presented by Mid North Coast Legal Centre. \nRegister now here. \n \n 
URL:https://mnclegal.org.au/event/planning-ahead-powers-of-attorney-enduring-guardianship/
LOCATION:Manning Uniting Church\, 29 Albert Street\, Taree\, NSW\, 2430\, Australia
ORGANIZER;CN="Mid North Coast Legal Centre":MAILTO:info@mnclegal.org.au
END:VEVENT
BEGIN:VEVENT
DTSTART;TZID=Australia/Sydney:20231114T100000
DTEND;TZID=Australia/Sydney:20231114T110000
DTSTAMP:20260425T084856
CREATED:20231024T044431Z
LAST-MODIFIED:20231024T044431Z
UID:1885-1699956000-1699959600@mnclegal.org.au
SUMMARY:Law for Community Workers
DESCRIPTION:A free information session for community workers. This talk will cover: \n\nAll about the Mid North Coast Legal Centre\nSpotting legal issues when working with your clients\nPrioritising legal issues\nImpacts of legal issues on clients\nReferral processes\nHow we support your clients with their legal issues\n\nRegister through Eventbrite here.
URL:https://mnclegal.org.au/event/law-for-community-workers/
LOCATION:Online\, Australia
ORGANIZER;CN="Mid North Coast Legal Centre":MAILTO:info@mnclegal.org.au
END:VEVENT
END:VCALENDAR