BEGIN:VCALENDAR
VERSION:2.0
PRODID:-//Mid North Coast Legal Centre - ECPv6.8.3//NONSGML v1.0//EN
CALSCALE:GREGORIAN
METHOD:PUBLISH
X-ORIGINAL-URL:https://mnclegal.org.au
X-WR-CALDESC:Events for Mid North Coast Legal Centre
REFRESH-INTERVAL;VALUE=DURATION:PT1H
X-Robots-Tag:noindex
X-PUBLISHED-TTL:PT1H
BEGIN:VTIMEZONE
TZID:Australia/Sydney
BEGIN:STANDARD
TZOFFSETFROM:+1100
TZOFFSETTO:+1000
TZNAME:AEST
DTSTART:20230401T160000
END:STANDARD
BEGIN:DAYLIGHT
TZOFFSETFROM:+1000
TZOFFSETTO:+1100
TZNAME:AEDT
DTSTART:20230930T160000
END:DAYLIGHT
END:VTIMEZONE
BEGIN:VEVENT
DTSTART;TZID=Australia/Sydney:20231017T100000
DTEND;TZID=Australia/Sydney:20231017T110000
DTSTAMP:20260425T100452
CREATED:20230804T011238Z
LAST-MODIFIED:20230804T011238Z
UID:1844-1697536800-1697540400@mnclegal.org.au
SUMMARY:Employment Law for community workers
DESCRIPTION:A free information session for community workers on Employment Law. This talk will cover: \n\nWhat the Mid North Coast Legal Centre is and what we do.\nHow the Mid North Coast Legal Centre supports the community.\nEmployment Law basics.\nHow to spot an Employment Law issue.\nWhere people can get legal help and find legal information.\n\nThe session will be presented by Mid North Coast Legal Centre. \nRegister now here.
URL:https://mnclegal.org.au/event/employment-law-for-community-workers/
LOCATION:Online\, Australia
ORGANIZER;CN="Mid North Coast Legal Centre":MAILTO:info@mnclegal.org.au
END:VEVENT
END:VCALENDAR