BEGIN:VCALENDAR
VERSION:2.0
PRODID:-//Mid North Coast Legal Centre - ECPv6.8.3//NONSGML v1.0//EN
CALSCALE:GREGORIAN
METHOD:PUBLISH
X-WR-CALNAME:Mid North Coast Legal Centre
X-ORIGINAL-URL:https://mnclegal.org.au
X-WR-CALDESC:Events for Mid North Coast Legal Centre
REFRESH-INTERVAL;VALUE=DURATION:PT1H
X-Robots-Tag:noindex
X-PUBLISHED-TTL:PT1H
BEGIN:VTIMEZONE
TZID:Australia/Sydney
BEGIN:STANDARD
TZOFFSETFROM:+1100
TZOFFSETTO:+1000
TZNAME:AEST
DTSTART:20230401T160000
END:STANDARD
BEGIN:DAYLIGHT
TZOFFSETFROM:+1000
TZOFFSETTO:+1100
TZNAME:AEDT
DTSTART:20230930T160000
END:DAYLIGHT
END:VTIMEZONE
BEGIN:VEVENT
DTSTART;TZID=Australia/Sydney:20230921T083000
DTEND;TZID=Australia/Sydney:20230921T083000
DTSTAMP:20260425T112908
CREATED:20230721T051427Z
LAST-MODIFIED:20230804T011507Z
UID:1832-1695285000-1695285000@mnclegal.org.au
SUMMARY:Legal Issues in a Disaster. Are you ready? at Toormina Community Centre
DESCRIPTION:A free information session for community on Legal Issues in a Disaster. Are you ready? This talk will cover: \n\ninsurance & complaints\nbeing prepared\nhow to spot legal issues\ndispute resolution\nwhere to get help\n\nThe session will be presented by the Mid North Coast Legal Centre in collaboration with Coffs Harbour City Council. \nLight refreshments will be provided. For more information\, please email info@mnclegal.org.au. Register now through eventbrite here.
URL:https://mnclegal.org.au/event/legal-issues-in-a-disaster-are-you-ready-at-toormina-community-centre/
LOCATION:Toormina Community Centre\, 171 Toormina Road\, Toormina\, NSW\, 2452\, Australia
ORGANIZER;CN="Mid North Coast Legal Centre":MAILTO:info@mnclegal.org.au
END:VEVENT
BEGIN:VEVENT
DTSTART;TZID=Australia/Sydney:20230922T100000
DTEND;TZID=Australia/Sydney:20230922T110000
DTSTAMP:20260425T112908
CREATED:20230712T051758Z
LAST-MODIFIED:20230804T011543Z
UID:1822-1695376800-1695380400@mnclegal.org.au
SUMMARY:Basics of the Australian Legal System for community workers
DESCRIPTION:Community Legal Education- Basics of the Australian Legal System for community workers\n\nA free information session for community workers on Basics of the Australian Legal System. This talk will cover:\n\n-About the Mid North Coast Legal Centre\n-Types of Laws in Australia\n-Courts and the legal process\n-Spotting legal issues\n-Where people can get help\n\nThe session will be presented by Mid North Coast Legal Centre. Register through Eventbrite here.
URL:https://mnclegal.org.au/event/basics-of-the-australian-legal-system-for-community-workers/
LOCATION:Online\, Australia
ORGANIZER;CN="Mid North Coast Legal Centre":MAILTO:info@mnclegal.org.au
END:VEVENT
END:VCALENDAR