BEGIN:VCALENDAR
VERSION:2.0
PRODID:-//Mid North Coast Legal Centre - ECPv6.8.3//NONSGML v1.0//EN
CALSCALE:GREGORIAN
METHOD:PUBLISH
X-WR-CALNAME:Mid North Coast Legal Centre
X-ORIGINAL-URL:https://mnclegal.org.au
X-WR-CALDESC:Events for Mid North Coast Legal Centre
REFRESH-INTERVAL;VALUE=DURATION:PT1H
X-Robots-Tag:noindex
X-PUBLISHED-TTL:PT1H
BEGIN:VTIMEZONE
TZID:Australia/Sydney
BEGIN:STANDARD
TZOFFSETFROM:+1100
TZOFFSETTO:+1000
TZNAME:AEST
DTSTART:20220402T160000
END:STANDARD
BEGIN:DAYLIGHT
TZOFFSETFROM:+1000
TZOFFSETTO:+1100
TZNAME:AEDT
DTSTART:20221001T160000
END:DAYLIGHT
END:VTIMEZONE
BEGIN:VEVENT
DTSTART;TZID=Australia/Sydney:20220810T100000
DTEND;TZID=Australia/Sydney:20220810T110000
DTSTAMP:20260425T221629
CREATED:20220803T231729Z
LAST-MODIFIED:20220803T232923Z
UID:1475-1660125600-1660129200@mnclegal.org.au
SUMMARY:Community legal education session: Legal Help in your Region at Port Macquarie Library
DESCRIPTION:Your invited to our FREE community legal education\nsession! \nWe’ll cover what the Mid North Coast Legal Centre is\, how to spot a legal\nissue\, where you can go to for help and legal wellbeing post-disaster.\nLight refreshments will be provided. \nBookings essential: \nRegister online at mnclibrary.org.au or call 6581 8755. \nThis Community Legal Education is funded by Healthy North Coast\nthrough the North Coast PHN program.
URL:https://mnclegal.org.au/event/community-legal-education-session-legal-help-in-your-region-at-port-macquarie-library/
LOCATION:Port Macquarie Library\, 32 Grant Street\, Port Macquarie\, NSW\, 2444\, Australia
ORGANIZER;CN="Mid North Coast Legal Centre":MAILTO:info@mnclegal.org.au
END:VEVENT
END:VCALENDAR