BEGIN:VCALENDAR
VERSION:2.0
PRODID:-//Mid North Coast Legal Centre - ECPv6.8.3//NONSGML v1.0//EN
CALSCALE:GREGORIAN
METHOD:PUBLISH
X-ORIGINAL-URL:https://mnclegal.org.au
X-WR-CALDESC:Events for Mid North Coast Legal Centre
REFRESH-INTERVAL;VALUE=DURATION:PT1H
X-Robots-Tag:noindex
X-PUBLISHED-TTL:PT1H
BEGIN:VTIMEZONE
TZID:Australia/Sydney
BEGIN:STANDARD
TZOFFSETFROM:+1100
TZOFFSETTO:+1000
TZNAME:AEST
DTSTART:20240406T160000
END:STANDARD
BEGIN:DAYLIGHT
TZOFFSETFROM:+1000
TZOFFSETTO:+1100
TZNAME:AEDT
DTSTART:20241005T160000
END:DAYLIGHT
END:VTIMEZONE
BEGIN:VEVENT
DTSTART;TZID=Australia/Sydney:20240130T140000
DTEND;TZID=Australia/Sydney:20240130T150000
DTSTAMP:20260425T060017
CREATED:20231221T041501Z
LAST-MODIFIED:20231221T041611Z
UID:1918-1706623200-1706626800@mnclegal.org.au
SUMMARY:Planning Ahead: Powers of Attorney & Enduring Guardianship in Nambucca
DESCRIPTION:Come along to a FREE community legal education session on Planning Ahead: Powers of Attorney & Enduring Guardianship \nTuesday\, 30 January 2024 at 2pm-3pm \nNambucca Heads Library- 23 Ridge Street\, Nambucca Heads \nLight refreshments will be provided \nWe’ll cover: \n\nCapacity\nEnduring Power of Attorney\nEnduring Guardianship\nAdvance Care Planning & Directive\nFinancial Management Orders\nGuardianship\nWills\n\nRegister by calling the Library on 6568 6906.
URL:https://mnclegal.org.au/event/planning-ahead-powers-of-attorney-enduring-guardianship-2/
LOCATION:Nambucca Heads Library\, 23 Ridge Street\, Nambucca Heads\, NSW\, 2448\, Australia
ORGANIZER;CN="Mid North Coast Legal Centre":MAILTO:info@mnclegal.org.au
END:VEVENT
END:VCALENDAR