BEGIN:VCALENDAR
VERSION:2.0
PRODID:-//Mid North Coast Legal Centre - ECPv6.8.3//NONSGML v1.0//EN
CALSCALE:GREGORIAN
METHOD:PUBLISH
X-WR-CALNAME:Mid North Coast Legal Centre
X-ORIGINAL-URL:https://mnclegal.org.au
X-WR-CALDESC:Events for Mid North Coast Legal Centre
REFRESH-INTERVAL;VALUE=DURATION:PT1H
X-Robots-Tag:noindex
X-PUBLISHED-TTL:PT1H
BEGIN:VTIMEZONE
TZID:Australia/Sydney
BEGIN:STANDARD
TZOFFSETFROM:+1100
TZOFFSETTO:+1000
TZNAME:AEST
DTSTART:20230401T160000
END:STANDARD
BEGIN:DAYLIGHT
TZOFFSETFROM:+1000
TZOFFSETTO:+1100
TZNAME:AEDT
DTSTART:20230930T160000
END:DAYLIGHT
END:VTIMEZONE
BEGIN:VEVENT
DTSTART;TZID=Australia/Sydney:20231212T100000
DTEND;TZID=Australia/Sydney:20231212T110000
DTSTAMP:20260425T084714
CREATED:20231025T052650Z
LAST-MODIFIED:20231025T052650Z
UID:1892-1702375200-1702378800@mnclegal.org.au
SUMMARY:Legal Help in your Region for Community Workers
DESCRIPTION:A free information session for community workers on Legal Help in your Region. This talk will cover: \n\nAll things MNCLC\nHow we support our communities\nInformation about who we help\nWhat legal issues we help clients with\nWhere clients can get help\n\nThe session will be presented by the Mid North Coast Legal Centre. \nRegister through eventbrite here.
URL:https://mnclegal.org.au/event/legal-help-in-your-region-for-community-workers-3/
LOCATION:Online\, Australia
ORGANIZER;CN="Mid North Coast Legal Centre":MAILTO:info@mnclegal.org.au
END:VEVENT
END:VCALENDAR