BEGIN:VCALENDAR
VERSION:2.0
PRODID:-//Mid North Coast Legal Centre - ECPv6.8.3//NONSGML v1.0//EN
CALSCALE:GREGORIAN
METHOD:PUBLISH
X-ORIGINAL-URL:https://mnclegal.org.au
X-WR-CALDESC:Events for Mid North Coast Legal Centre
REFRESH-INTERVAL;VALUE=DURATION:PT1H
X-Robots-Tag:noindex
X-PUBLISHED-TTL:PT1H
BEGIN:VTIMEZONE
TZID:Australia/Sydney
BEGIN:STANDARD
TZOFFSETFROM:+1100
TZOFFSETTO:+1000
TZNAME:AEST
DTSTART:20230401T160000
END:STANDARD
BEGIN:DAYLIGHT
TZOFFSETFROM:+1000
TZOFFSETTO:+1100
TZNAME:AEDT
DTSTART:20230930T160000
END:DAYLIGHT
END:VTIMEZONE
BEGIN:VEVENT
DTSTART;TZID=Australia/Sydney:20230829T133000
DTEND;TZID=Australia/Sydney:20230829T143000
DTSTAMP:20260425T124148
CREATED:20230712T043223Z
LAST-MODIFIED:20230804T011407Z
UID:1815-1693315800-1693319400@mnclegal.org.au
SUMMARY:Legal Issues in a Disaster. Are you ready? 1:30-2:30pm session
DESCRIPTION:A free information session for community on Legal Issues in a Disaster. Are you ready? This talk will cover: \n\ninsurance & complaints\nbeing prepared\nhow to spot legal issues\ndispute resolution\nwhere to get help\n\nThe session will be presented by Mid North Coast Legal Centre. Register now through Eventbrite here.
URL:https://mnclegal.org.au/event/legal-issues-in-a-disaster-are-you-ready/
LOCATION:Bellingen Youth Hub\, Cnr of William & Church Streets\, Bellingen\, NSW\, 2454\, Australia
ORGANIZER;CN="Mid North Coast Legal Centre":MAILTO:info@mnclegal.org.au
END:VEVENT
BEGIN:VEVENT
DTSTART;TZID=Australia/Sydney:20230829T180000
DTEND;TZID=Australia/Sydney:20230829T190000
DTSTAMP:20260425T124148
CREATED:20230712T043436Z
LAST-MODIFIED:20230804T011433Z
UID:1820-1693332000-1693335600@mnclegal.org.au
SUMMARY:Legal Issues in a Disaster. Are you ready? 6-7pm session
DESCRIPTION:A free information session for community on Legal Issues in a Disaster. Are you ready? This talk will cover: \n\ninsurance & complaints\nbeing prepared\nhow to spot legal issues\ndispute resolution\nwhere to get help\n\nThe session will be presented by Mid North Coast Legal Centre. Register now through Eventbrite here.
URL:https://mnclegal.org.au/event/legal-issues-in-a-disaster-are-you-ready-6-7pm-session/
LOCATION:Bellingen Youth Hub\, Cnr of William & Church Streets\, Bellingen\, NSW\, 2454\, Australia
ORGANIZER;CN="Mid North Coast Legal Centre":MAILTO:info@mnclegal.org.au
END:VEVENT
END:VCALENDAR