BEGIN:VCALENDAR
VERSION:2.0
PRODID:-//Mid North Coast Legal Centre - ECPv6.8.3//NONSGML v1.0//EN
CALSCALE:GREGORIAN
METHOD:PUBLISH
X-WR-CALNAME:Mid North Coast Legal Centre
X-ORIGINAL-URL:https://mnclegal.org.au
X-WR-CALDESC:Events for Mid North Coast Legal Centre
REFRESH-INTERVAL;VALUE=DURATION:PT1H
X-Robots-Tag:noindex
X-PUBLISHED-TTL:PT1H
BEGIN:VTIMEZONE
TZID:Australia/Sydney
BEGIN:STANDARD
TZOFFSETFROM:+1100
TZOFFSETTO:+1000
TZNAME:AEST
DTSTART:20230401T160000
END:STANDARD
BEGIN:DAYLIGHT
TZOFFSETFROM:+1000
TZOFFSETTO:+1100
TZNAME:AEDT
DTSTART:20230930T160000
END:DAYLIGHT
END:VTIMEZONE
BEGIN:VEVENT
DTSTART;TZID=Australia/Sydney:20230801T110000
DTEND;TZID=Australia/Sydney:20230801T110000
DTSTAMP:20260425T140225
CREATED:20230613T021706Z
LAST-MODIFIED:20230613T021759Z
UID:1802-1690887600-1690887600@mnclegal.org.au
SUMMARY:PMHCares Services Hub- Laurieton
DESCRIPTION:We will be attending the PMHCares Services Hub in Laurieton. Come check out our stall have a chat with us.\n\nIf you are you a remote resident struggling to access support services\, be sure to drop into the Services Hub to speak to representatives in:\n Health\n Counselling\n Youth\n Disability\n Legal support\n Charities\n Housing\n Council\n Other service providers\n\n\n Laurieton School of Arts\n 1 August\, 11am-1pm.
URL:https://mnclegal.org.au/event/pmhcares-services-hub-laurieton/
LOCATION:Laurieton School of Arts\, 58 Bold Street\, Laurieton\, NSW\, 2443\, Australia
END:VEVENT
END:VCALENDAR