BEGIN:VCALENDAR
VERSION:2.0
PRODID:-//Mid North Coast Legal Centre - ECPv6.8.3//NONSGML v1.0//EN
CALSCALE:GREGORIAN
METHOD:PUBLISH
X-WR-CALNAME:Mid North Coast Legal Centre
X-ORIGINAL-URL:https://mnclegal.org.au
X-WR-CALDESC:Events for Mid North Coast Legal Centre
REFRESH-INTERVAL;VALUE=DURATION:PT1H
X-Robots-Tag:noindex
X-PUBLISHED-TTL:PT1H
BEGIN:VTIMEZONE
TZID:Australia/Sydney
BEGIN:STANDARD
TZOFFSETFROM:+1100
TZOFFSETTO:+1000
TZNAME:AEST
DTSTART:20230401T160000
END:STANDARD
BEGIN:DAYLIGHT
TZOFFSETFROM:+1000
TZOFFSETTO:+1100
TZNAME:AEDT
DTSTART:20230930T160000
END:DAYLIGHT
END:VTIMEZONE
BEGIN:VEVENT
DTSTART;TZID=Australia/Sydney:20230501T140000
DTEND;TZID=Australia/Sydney:20230501T150000
DTSTAMP:20260425T220957
CREATED:20230413T052943Z
LAST-MODIFIED:20230413T060820Z
UID:1722-1682949600-1682953200@mnclegal.org.au
SUMMARY:Discrimination for community workers
DESCRIPTION:A free information session for community workers on Discrimination.  \nThe session will be presented by Mid North Coast Legal Centre. Register now through Eventbrite here. \nFor more information\, please call02 6580 2111 or email us on info@mnclegal.org.au.
URL:https://mnclegal.org.au/event/discrimination-for-community-workers/
LOCATION:Online\, Australia
ORGANIZER;CN="Mid North Coast Legal Centre":MAILTO:info@mnclegal.org.au
END:VEVENT
END:VCALENDAR