BEGIN:VCALENDAR
VERSION:2.0
PRODID:-//Mid North Coast Legal Centre - ECPv6.8.3//NONSGML v1.0//EN
CALSCALE:GREGORIAN
METHOD:PUBLISH
X-ORIGINAL-URL:https://mnclegal.org.au
X-WR-CALDESC:Events for Mid North Coast Legal Centre
REFRESH-INTERVAL;VALUE=DURATION:PT1H
X-Robots-Tag:noindex
X-PUBLISHED-TTL:PT1H
BEGIN:VTIMEZONE
TZID:Australia/Sydney
BEGIN:STANDARD
TZOFFSETFROM:+1100
TZOFFSETTO:+1000
TZNAME:AEST
DTSTART:20220402T160000
END:STANDARD
BEGIN:DAYLIGHT
TZOFFSETFROM:+1000
TZOFFSETTO:+1100
TZNAME:AEDT
DTSTART:20221001T160000
END:DAYLIGHT
END:VTIMEZONE
BEGIN:VEVENT
DTSTART;TZID=Australia/Sydney:20221027T103000
DTEND;TZID=Australia/Sydney:20221027T113000
DTSTAMP:20260426T051350
CREATED:20220906T035915Z
LAST-MODIFIED:20221005T005640Z
UID:1604-1666866600-1666870200@mnclegal.org.au
SUMMARY:Community legal education session: Debts at Macksville Library
DESCRIPTION:You’re invited to our FREE community legal education session on the topic: Debts. \nThis community legal education session is in collaboration with Nambucca Valley Libraries and will be held at the Macksville Library. \nRegister by calling the Library on (02) 6568 1422. \nThis Community Wellbeing and Resilience Program is funded by Healthy North Coast through the North Coast PHN program.
URL:https://mnclegal.org.au/event/community-legal-education-session-debts-at-macksville-library/
LOCATION:Macksville Library\, 41 Princess Street\, Macksville\, NSW\, 2447\, Australia
ORGANIZER;CN="Mid North Coast Legal Centre":MAILTO:info@mnclegal.org.au
END:VEVENT
BEGIN:VEVENT
DTSTART;TZID=Australia/Sydney:20221027T110000
DTEND;TZID=Australia/Sydney:20221027T120000
DTSTAMP:20260426T051350
CREATED:20221005T004925Z
LAST-MODIFIED:20221025T224533Z
UID:1627-1666868400-1666872000@mnclegal.org.au
SUMMARY:Community legal education session: Insurance & Complaints Processes- Manning Point- CANCELLED
DESCRIPTION:You’re invited to our FREE community legal education session on Insurance & Complaints Processes for Service Providers. \nThis session will be held at Mitchells Island School of Arts Hall. \nRefreshments will be provided.  \nRSVP by calling (02) 6580 2111 or emailing info@mnclegal.org.au.
URL:https://mnclegal.org.au/event/community-legal-education-session-insurance-complaints-processes-manning-point/
LOCATION:Michells Island School of Arts Hall\, 1179 Manning Point Road\, Mitchells Island\, NSW\, 2430\, Australia
ORGANIZER;CN="Mid North Coast Legal Centre":MAILTO:info@mnclegal.org.au
END:VEVENT
BEGIN:VEVENT
DTSTART;TZID=Australia/Sydney:20221027T150000
DTEND;TZID=Australia/Sydney:20221027T160000
DTSTAMP:20260426T051350
CREATED:20221005T005333Z
LAST-MODIFIED:20221025T224700Z
UID:1631-1666882800-1666886400@mnclegal.org.au
SUMMARY:Community legal education session: Insurance & Complaints Processes- Taree- CANCELLED
DESCRIPTION:You’re invited to our FREE community legal education session on Insurance & Complaints Processes for Service Providers. \nThis session will be held at the Manning Uniting Church\, 29 Albert Street\, Taree. \nRefreshments will be provided. \nRSVP by calling (02) 6580 2111 or emailing info@mnclegal.org.au.
URL:https://mnclegal.org.au/event/community-legal-education-session-insurance-complaints-processes-taree/
LOCATION:Manning Uniting Church\, 29 Albert Street\, Taree\, NSW\, 2430\, Australia
ORGANIZER;CN="Mid North Coast Legal Centre":MAILTO:info@mnclegal.org.au
END:VEVENT
END:VCALENDAR