BEGIN:VCALENDAR
VERSION:2.0
PRODID:-//Mid North Coast Legal Centre - ECPv6.8.3//NONSGML v1.0//EN
CALSCALE:GREGORIAN
METHOD:PUBLISH
X-ORIGINAL-URL:https://mnclegal.org.au
X-WR-CALDESC:Events for Mid North Coast Legal Centre
REFRESH-INTERVAL;VALUE=DURATION:PT1H
X-Robots-Tag:noindex
X-PUBLISHED-TTL:PT1H
BEGIN:VTIMEZONE
TZID:Australia/Sydney
BEGIN:STANDARD
TZOFFSETFROM:+1100
TZOFFSETTO:+1000
TZNAME:AEST
DTSTART:20220402T160000
END:STANDARD
BEGIN:DAYLIGHT
TZOFFSETFROM:+1000
TZOFFSETTO:+1100
TZNAME:AEDT
DTSTART:20221001T160000
END:DAYLIGHT
END:VTIMEZONE
BEGIN:VEVENT
DTSTART;TZID=Australia/Sydney:20221025T140000
DTEND;TZID=Australia/Sydney:20221025T150000
DTSTAMP:20260426T051351
CREATED:20220804T001928Z
LAST-MODIFIED:20220811T222414Z
UID:1492-1666706400-1666710000@mnclegal.org.au
SUMMARY:Community legal education online session: Police Powers for community workers
DESCRIPTION:A free information session for community workers on Police Powers. This talk will cover: \n• Search powers \n• Arrest powers  \n• Move on directions  \n• Rights of people when dealing with Police \n• Options and referrals for clients. \nThe session will be presented by Mid North Coat Legal Centre. \nCLE online series flyer- Aug-Nov
URL:https://mnclegal.org.au/event/community-legal-education-online-session-police-powers-for-community-workers/
LOCATION:Online\, Australia
ORGANIZER;CN="Mid North Coast Legal Centre":MAILTO:info@mnclegal.org.au
END:VEVENT
END:VCALENDAR