BEGIN:VCALENDAR
VERSION:2.0
PRODID:-//Mid North Coast Legal Centre - ECPv6.8.3//NONSGML v1.0//EN
CALSCALE:GREGORIAN
METHOD:PUBLISH
X-WR-CALNAME:Mid North Coast Legal Centre
X-ORIGINAL-URL:https://mnclegal.org.au
X-WR-CALDESC:Events for Mid North Coast Legal Centre
REFRESH-INTERVAL;VALUE=DURATION:PT1H
X-Robots-Tag:noindex
X-PUBLISHED-TTL:PT1H
BEGIN:VTIMEZONE
TZID:Australia/Sydney
BEGIN:STANDARD
TZOFFSETFROM:+1100
TZOFFSETTO:+1000
TZNAME:AEST
DTSTART:20220402T160000
END:STANDARD
BEGIN:DAYLIGHT
TZOFFSETFROM:+1000
TZOFFSETTO:+1100
TZNAME:AEDT
DTSTART:20221001T160000
END:DAYLIGHT
END:VTIMEZONE
BEGIN:VEVENT
DTSTART;TZID=Australia/Sydney:20220928T103000
DTEND;TZID=Australia/Sydney:20220928T113000
DTSTAMP:20260426T051314
CREATED:20220906T035521Z
LAST-MODIFIED:20220919T220404Z
UID:1601-1664361000-1664364600@mnclegal.org.au
SUMMARY:Community legal education session: Complaints Processes at Macksville Library
DESCRIPTION:You’re invited to our FREE community legal education session on Complaints Processes. \nThis community legal education session is in collaboration with Nambucca Valley Libraries and will be held at the Macksville Library. \nRegister by calling the Library on (02) 6568 1422. \nThis Community Wellbeing and Resilience Program is funded by Healthy North Coast through the North Coast PHN program.
URL:https://mnclegal.org.au/event/community-legal-education-session-complaints-processes-at-macksville-library/
LOCATION:Macksville Library\, 41 Princess Street\, Macksville\, NSW\, 2447\, Australia
ORGANIZER;CN="Mid North Coast Legal Centre":MAILTO:info@mnclegal.org.au
END:VEVENT
END:VCALENDAR