BEGIN:VCALENDAR
VERSION:2.0
PRODID:-//Mid North Coast Legal Centre - ECPv6.8.3//NONSGML v1.0//EN
CALSCALE:GREGORIAN
METHOD:PUBLISH
X-WR-CALNAME:Mid North Coast Legal Centre
X-ORIGINAL-URL:https://mnclegal.org.au
X-WR-CALDESC:Events for Mid North Coast Legal Centre
REFRESH-INTERVAL;VALUE=DURATION:PT1H
X-Robots-Tag:noindex
X-PUBLISHED-TTL:PT1H
BEGIN:VTIMEZONE
TZID:Australia/Sydney
BEGIN:STANDARD
TZOFFSETFROM:+1100
TZOFFSETTO:+1000
TZNAME:AEST
DTSTART:20220402T160000
END:STANDARD
BEGIN:DAYLIGHT
TZOFFSETFROM:+1000
TZOFFSETTO:+1100
TZNAME:AEDT
DTSTART:20221001T160000
END:DAYLIGHT
END:VTIMEZONE
BEGIN:VEVENT
DTSTART;TZID=Australia/Sydney:20220906T080000
DTEND;TZID=Australia/Sydney:20220906T170000
DTSTAMP:20260426T062730
CREATED:20220906T040606Z
LAST-MODIFIED:20220906T040606Z
UID:1606-1662451200-1662483600@mnclegal.org.au
SUMMARY:Community legal education session: Insurance and Complaints Processes for service providers
DESCRIPTION:A free information session for service providers in the Taree and surrounding areas. We will cover the topic: Insurance and Complaints Processes. \nThe session will be presented by Mid North Coat Legal Centre. \nRegister via eventbrite or contact us for more information: info@mnclegal.org.au
URL:https://mnclegal.org.au/event/community-legal-education-session-insurance-and-complaints-processes-for-service-providers/
LOCATION:Taree Council Chambers\, Yalawanyi Ganya\, 2 Biripi Way\, Taree\, NSW\, 2430\, Australia
ORGANIZER;CN="Mid North Coast Legal Centre":MAILTO:info@mnclegal.org.au
END:VEVENT
END:VCALENDAR