BEGIN:VCALENDAR
VERSION:2.0
PRODID:-//Mid North Coast Legal Centre - ECPv6.8.3//NONSGML v1.0//EN
CALSCALE:GREGORIAN
METHOD:PUBLISH
X-WR-CALNAME:Mid North Coast Legal Centre
X-ORIGINAL-URL:https://mnclegal.org.au
X-WR-CALDESC:Events for Mid North Coast Legal Centre
REFRESH-INTERVAL;VALUE=DURATION:PT1H
X-Robots-Tag:noindex
X-PUBLISHED-TTL:PT1H
BEGIN:VTIMEZONE
TZID:Australia/Sydney
BEGIN:STANDARD
TZOFFSETFROM:+1100
TZOFFSETTO:+1000
TZNAME:AEST
DTSTART:20220402T160000
END:STANDARD
BEGIN:DAYLIGHT
TZOFFSETFROM:+1000
TZOFFSETTO:+1100
TZNAME:AEDT
DTSTART:20221001T160000
END:DAYLIGHT
END:VTIMEZONE
BEGIN:VEVENT
DTSTART;TZID=Australia/Sydney:20220905T170000
DTEND;TZID=Australia/Sydney:20220905T180000
DTSTAMP:20260426T062728
CREATED:20220810T051340Z
LAST-MODIFIED:20220815T220931Z
UID:1578-1662397200-1662400800@mnclegal.org.au
SUMMARY:Community legal education session: Insurance for natural disasters at Coffs Harbour Libraries
DESCRIPTION:You’re invited to our FREE community legal education session on Insurance for natural disasters. \nThis community legal education session is in collaboration with Coffs Harbour libraries and will be held at the Harry Bailey Memorial Library. \nThis Community Wellbeing and Resilience Program is funded by Healthy North Coast through the North Coast PHN program.
URL:https://mnclegal.org.au/event/community-legal-education-session-insurance-for-natural-disasters-at-coffs-harbour-libraries/
LOCATION:Harry Bailey Memorial Library\, Yarrila Place\, 27 Gordon Street\, Coffs Harbour\, NSW\, 2450\, Australia
ORGANIZER;CN="Mid North Coast Legal Centre":MAILTO:info@mnclegal.org.au
END:VEVENT
END:VCALENDAR