BEGIN:VCALENDAR
VERSION:2.0
PRODID:-//Mid North Coast Legal Centre - ECPv6.8.3//NONSGML v1.0//EN
CALSCALE:GREGORIAN
METHOD:PUBLISH
X-ORIGINAL-URL:https://mnclegal.org.au
X-WR-CALDESC:Events for Mid North Coast Legal Centre
REFRESH-INTERVAL;VALUE=DURATION:PT1H
X-Robots-Tag:noindex
X-PUBLISHED-TTL:PT1H
BEGIN:VTIMEZONE
TZID:Australia/Sydney
BEGIN:STANDARD
TZOFFSETFROM:+1100
TZOFFSETTO:+1000
TZNAME:AEST
DTSTART:20220402T160000
END:STANDARD
BEGIN:DAYLIGHT
TZOFFSETFROM:+1000
TZOFFSETTO:+1100
TZNAME:AEDT
DTSTART:20221001T160000
END:DAYLIGHT
END:VTIMEZONE
BEGIN:VEVENT
DTSTART;TZID=Australia/Sydney:20220823T140000
DTEND;TZID=Australia/Sydney:20220823T150000
DTSTAMP:20260426T075104
CREATED:20220803T080218Z
LAST-MODIFIED:20220811T222218Z
UID:1469-1661263200-1661266800@mnclegal.org.au
SUMMARY:Community legal education online session: Legal help in your Region for workers community services
DESCRIPTION:A community legal education session provided by Mid North Coast Legal Centre focusing on legal help in your region for workers in community services. \nCLE online series flyer- Aug-Nov
URL:https://mnclegal.org.au/event/event-1/
LOCATION:Online\, Australia
ORGANIZER;CN="Mid North Coast Legal Centre":MAILTO:info@mnclegal.org.au
END:VEVENT
END:VCALENDAR